BEGIN:VCALENDAR
VERSION:2.0
PRODID:-//wp-events-plugin.com//6.6.3//EN
TZID:America/Chicago
X-WR-TIMEZONE:America/Chicago
BEGIN:VEVENT
UID:68@prospereaglebaseball.org
DTSTART:20250329T100000Z
DTEND:20250329T120000Z
DTSTAMP:20250114T234212Z
URL:https://www.prospereaglebaseball.org/events/rock-hill-away-2/
SUMMARY:Rock Hill - Away
DESCRIPTION:
CATEGORIES:JV Green
LOCATION:Rock Hill High School\, 16061 N Coit Rd\, Prosper\, TX\, 75035\, U
 nited States
GEO:33.209497;-96.769983
X-APPLE-STRUCTURED-LOCATION;VALUE=URI;X-ADDRESS=16061 N Coit Rd\, Prosper\,
  TX\, 75035\, United States;X-APPLE-RADIUS=100;X-TITLE=Rock Hill High Scho
 ol:geo:33.209497,-96.769983
END:VEVENT
END:VCALENDAR