BEGIN:VCALENDAR
VERSION:2.0
PRODID:-//wp-events-plugin.com//6.6.3//EN
TZID:America/Chicago
X-WR-TIMEZONE:America/Chicago
BEGIN:VEVENT
UID:41@prospereaglebaseball.org
DTSTART:20250425T193000Z
DTEND:20250425T213000Z
DTSTAMP:20241218T072024Z
URL:https://www.prospereaglebaseball.org/events/plano-west-home/
SUMMARY:Plano West - Home
DESCRIPTION:
CATEGORIES:Varsity
END:VEVENT
END:VCALENDAR