BEGIN:VCALENDAR
VERSION:2.0
PRODID:-//wp-events-plugin.com//6.6.3//EN
TZID:America/Chicago
X-WR-TIMEZONE:America/Chicago
BEGIN:VEVENT
UID:107@prospereaglebaseball.org
DTSTART:20250416T170000Z
DTEND:20250416T190000Z
DTSTAMP:20250114T235005Z
URL:https://www.prospereaglebaseball.org/events/mckinney-home-3/
SUMMARY:McKinney - Home
DESCRIPTION:
CATEGORIES:JV-White
LOCATION:PHS Baseball Field\, 301 Eagle Dr\, Prosper\, TX\, 75078\, United 
 States
GEO:33.259195;-96.798432
X-APPLE-STRUCTURED-LOCATION;VALUE=URI;X-ADDRESS=301 Eagle Dr\, Prosper\, TX
 \, 75078\, United States;X-APPLE-RADIUS=100;X-TITLE=PHS Baseball Field:geo
 :33.259195,-96.798432
END:VEVENT
END:VCALENDAR