BEGIN:VCALENDAR
VERSION:2.0
PRODID:-//wp-events-plugin.com//6.6.3//EN
TZID:America/Chicago
X-WR-TIMEZONE:America/Chicago
BEGIN:VEVENT
UID:86@prospereaglebaseball.org
DTSTART:20250221T133000Z
DTEND:20250221T153000Z
DTSTAMP:20250114T230141Z
URL:https://www.prospereaglebaseball.org/events/flower-mound-marcus-marcus
 /
SUMMARY:Flower Mound Marcus - @Marcus
DESCRIPTION:
CATEGORIES:JV-White
LOCATION:Flower Mound Marcus High School\, 5707 Morriss R\,  Flower Mound\,
  TX\, 75028\, United States
GEO:33.063868;-97.063907
X-APPLE-STRUCTURED-LOCATION;VALUE=URI;X-ADDRESS=5707 Morriss R\,  Flower Mo
 und\, TX\, 75028\, United States;X-APPLE-RADIUS=100;X-TITLE=Flower Mound M
 arcus High School:geo:33.063868,-97.063907
END:VEVENT
END:VCALENDAR